BEGIN:VCALENDAR
VERSION:2.0
PRODID:-//Sisters With Purpose, Inc. - ECPv6.9.0//NONSGML v1.0//EN
CALSCALE:GREGORIAN
METHOD:PUBLISH
X-WR-CALNAME:Sisters With Purpose, Inc.
X-ORIGINAL-URL:https://www.sisterswithpurpose.net
X-WR-CALDESC:Events for Sisters With Purpose, Inc.
REFRESH-INTERVAL;VALUE=DURATION:PT1H
X-Robots-Tag:noindex
X-PUBLISHED-TTL:PT1H
BEGIN:VTIMEZONE
TZID:America/New_York
BEGIN:DAYLIGHT
TZOFFSETFROM:-0500
TZOFFSETTO:-0400
TZNAME:EDT
DTSTART:20170312T070000
END:DAYLIGHT
BEGIN:STANDARD
TZOFFSETFROM:-0400
TZOFFSETTO:-0500
TZNAME:EST
DTSTART:20171105T060000
END:STANDARD
BEGIN:DAYLIGHT
TZOFFSETFROM:-0500
TZOFFSETTO:-0400
TZNAME:EDT
DTSTART:20180311T070000
END:DAYLIGHT
BEGIN:STANDARD
TZOFFSETFROM:-0400
TZOFFSETTO:-0500
TZNAME:EST
DTSTART:20181104T060000
END:STANDARD
BEGIN:DAYLIGHT
TZOFFSETFROM:-0500
TZOFFSETTO:-0400
TZNAME:EDT
DTSTART:20190310T070000
END:DAYLIGHT
BEGIN:STANDARD
TZOFFSETFROM:-0400
TZOFFSETTO:-0500
TZNAME:EST
DTSTART:20191103T060000
END:STANDARD
BEGIN:DAYLIGHT
TZOFFSETFROM:-0500
TZOFFSETTO:-0400
TZNAME:EDT
DTSTART:20200308T070000
END:DAYLIGHT
BEGIN:STANDARD
TZOFFSETFROM:-0400
TZOFFSETTO:-0500
TZNAME:EST
DTSTART:20201101T060000
END:STANDARD
END:VTIMEZONE
BEGIN:VEVENT
DTSTART;TZID=America/New_York:20200425T150000
DTEND;TZID=America/New_York:20200425T160000
DTSTAMP:20260425T114550
CREATED:20200401T143748Z
LAST-MODIFIED:20200401T143748Z
UID:1014-1587826800-1587830400@www.sisterswithpurpose.net
SUMMARY:Bi-Monthly Food Pantry
DESCRIPTION:
URL:https://www.sisterswithpurpose.net/upcoming-events/bi-monthly-food-pantry-2/
LOCATION:Brooklyn Sports Club\, 1540 Van Siclen Avenue\, Brooklyn\, NY\, 11239\, United States
ATTACH;FMTTYPE=image/jpeg:https://www.sisterswithpurpose.net/wp-content/uploads/2020/04/SistersWPurpose_FoodPantry-WEB-14-0985.jpg
ORGANIZER;CN="Sisters With Purpose Inc.":MAILTO:susie1310@gmail.com
END:VEVENT
BEGIN:VEVENT
DTSTART;TZID=America/New_York:20200411T150000
DTEND;TZID=America/New_York:20200411T160000
DTSTAMP:20260425T114550
CREATED:20200401T143557Z
LAST-MODIFIED:20200401T143557Z
UID:1009-1586617200-1586620800@www.sisterswithpurpose.net
SUMMARY:Bi-Monthly Food Pantry
DESCRIPTION:
URL:https://www.sisterswithpurpose.net/upcoming-events/bi-monthly-food-pantry/
LOCATION:Brooklyn Sports Club\, 1540 Van Siclen Avenue\, Brooklyn\, NY\, 11239\, United States
ATTACH;FMTTYPE=image/jpeg:https://www.sisterswithpurpose.net/wp-content/uploads/2020/04/SistersWPurpose_FoodPantry-WEB-14-0985.jpg
ORGANIZER;CN="Sisters With Purpose Inc.":MAILTO:susie1310@gmail.com
END:VEVENT
BEGIN:VEVENT
DTSTART;VALUE=DATE:20171222
DTEND;VALUE=DATE:20171223
DTSTAMP:20260425T114550
CREATED:20171009T180046Z
LAST-MODIFIED:20171009T180615Z
UID:731-1513900800-1513987199@www.sisterswithpurpose.net
SUMMARY:Christmas Party Outreach
DESCRIPTION:
URL:https://www.sisterswithpurpose.net/upcoming-events/christmas-party-outreach/
LOCATION:Help USA\, 115 E 13th St\, New York\, NY\, 10003\, United States
END:VEVENT
BEGIN:VEVENT
DTSTART;TZID=America/New_York:20171216T150000
DTEND;TZID=America/New_York:20171216T160000
DTSTAMP:20260425T114550
CREATED:20171009T173458Z
LAST-MODIFIED:20171009T173946Z
UID:713-1513436400-1513440000@www.sisterswithpurpose.net
SUMMARY:Food Pantry
DESCRIPTION:
URL:https://www.sisterswithpurpose.net/upcoming-events/food-pantry-6/
LOCATION:Brooklyn Sports Club\, 1540 Van Siclen Avenue\, Brooklyn\, NY\, 11239\, United States
END:VEVENT
BEGIN:VEVENT
DTSTART;TZID=America/New_York:20171216T143000
DTEND;TZID=America/New_York:20171216T173000
DTSTAMP:20260425T114550
CREATED:20171009T175816Z
LAST-MODIFIED:20171009T175817Z
UID:727-1513434600-1513445400@www.sisterswithpurpose.net
SUMMARY:Christmas Party & Dance Lessons
DESCRIPTION:
URL:https://www.sisterswithpurpose.net/upcoming-events/christmas-party-dance-lessons/
END:VEVENT
BEGIN:VEVENT
DTSTART;TZID=America/New_York:20171202T150000
DTEND;TZID=America/New_York:20171202T160000
DTSTAMP:20260425T114550
CREATED:20171009T173412Z
LAST-MODIFIED:20171009T173412Z
UID:711-1512226800-1512230400@www.sisterswithpurpose.net
SUMMARY:Food Pantry
DESCRIPTION:
URL:https://www.sisterswithpurpose.net/upcoming-events/food-pantry-5/
LOCATION:Brooklyn Sports Club\, 1540 Van Siclen Avenue\, Brooklyn\, NY\, 11239\, United States
END:VEVENT
BEGIN:VEVENT
DTSTART;TZID=America/New_York:20171202T143000
DTEND;TZID=America/New_York:20171202T173000
DTSTAMP:20260425T114550
CREATED:20171009T175904Z
LAST-MODIFIED:20171009T175904Z
UID:729-1512225000-1512235800@www.sisterswithpurpose.net
SUMMARY:Fire Safety Workshop & Dance Lessons
DESCRIPTION:
URL:https://www.sisterswithpurpose.net/upcoming-events/fire-safety-workshop-dance-lessons/
END:VEVENT
BEGIN:VEVENT
DTSTART;TZID=America/New_York:20171125T150000
DTEND;TZID=America/New_York:20171125T160000
DTSTAMP:20260425T114550
CREATED:20171009T171343Z
LAST-MODIFIED:20171016T135156Z
UID:709-1511622000-1511625600@www.sisterswithpurpose.net
SUMMARY:Food Pantry
DESCRIPTION:
URL:https://www.sisterswithpurpose.net/upcoming-events/food-pantry-4/
LOCATION:Brooklyn Sports Club\, 1540 Van Siclen Avenue\, Brooklyn\, NY\, 11239\, United States
END:VEVENT
BEGIN:VEVENT
DTSTART;VALUE=DATE:20171121
DTEND;VALUE=DATE:20171122
DTSTAMP:20260425T114550
CREATED:20171009T180354Z
LAST-MODIFIED:20171009T205220Z
UID:736-1511222400-1511308799@www.sisterswithpurpose.net
SUMMARY:Thanksgiving Community Service Project
DESCRIPTION:
URL:https://www.sisterswithpurpose.net/upcoming-events/thanksgiving-community-service-project/
LOCATION:Brooklyn Sports Club\, 1540 Van Siclen Avenue\, Brooklyn\, NY\, 11239\, United States
END:VEVENT
BEGIN:VEVENT
DTSTART;VALUE=DATE:20171118
DTEND;VALUE=DATE:20171119
DTSTAMP:20260425T114550
CREATED:20171009T180315Z
LAST-MODIFIED:20171009T180315Z
UID:734-1510963200-1511049599@www.sisterswithpurpose.net
SUMMARY:Thanksgiving Basket Project & Trip to Radio City Music Hall Christmas Spectacular
DESCRIPTION:
URL:https://www.sisterswithpurpose.net/upcoming-events/thanksgiving-basket-project-trip-radio-city-music-hall-christmas-spectacular/
END:VEVENT
BEGIN:VEVENT
DTSTART;TZID=America/New_York:20171111T150000
DTEND;TZID=America/New_York:20171111T160000
DTSTAMP:20260425T114550
CREATED:20171009T171059Z
LAST-MODIFIED:20171016T135217Z
UID:707-1510412400-1510416000@www.sisterswithpurpose.net
SUMMARY:Food Pantry
DESCRIPTION:
URL:https://www.sisterswithpurpose.net/upcoming-events/food-pantry-3/
LOCATION:Brooklyn Sports Club\, 1540 Van Siclen Avenue\, Brooklyn\, NY\, 11239\, United States
END:VEVENT
BEGIN:VEVENT
DTSTART;TZID=America/New_York:20171028T150000
DTEND;TZID=America/New_York:20171028T160000
DTSTAMP:20260425T114550
CREATED:20171009T001042Z
LAST-MODIFIED:20171009T180555Z
UID:703-1509202800-1509206400@www.sisterswithpurpose.net
SUMMARY:Food Pantry
DESCRIPTION:
URL:https://www.sisterswithpurpose.net/upcoming-events/food-pantry-2/
LOCATION:Brooklyn Sports Club\, 1540 Van Siclen Avenue\, Brooklyn\, NY\, 11239\, United States
END:VEVENT
BEGIN:VEVENT
DTSTART;TZID=America/New_York:20171028T143000
DTEND;TZID=America/New_York:20171028T173000
DTSTAMP:20260425T114550
CREATED:20171009T174946Z
LAST-MODIFIED:20171009T174946Z
UID:725-1509201000-1509211800@www.sisterswithpurpose.net
SUMMARY:Healthy Relationships Workshop & Dane Lessons
DESCRIPTION:
URL:https://www.sisterswithpurpose.net/upcoming-events/healthy-relationships-workshop-dane-lessons/
END:VEVENT
BEGIN:VEVENT
DTSTART;TZID=America/New_York:20171021T143000
DTEND;TZID=America/New_York:20171021T173000
DTSTAMP:20260425T114550
CREATED:20171009T174801Z
LAST-MODIFIED:20171009T174816Z
UID:719-1508596200-1508607000@www.sisterswithpurpose.net
SUMMARY:Domestic Violence Forum
DESCRIPTION:
URL:https://www.sisterswithpurpose.net/upcoming-events/domestic-violence-forum/
LOCATION:New Lots Public Library\, 665 New Lots Ave\, Brooklyn\, 11207\, United States
END:VEVENT
BEGIN:VEVENT
DTSTART;TZID=America/New_York:20171014T143000
DTEND;TZID=America/New_York:20171014T173000
DTSTAMP:20260425T114550
CREATED:20171009T174349Z
LAST-MODIFIED:20171009T174349Z
UID:717-1507991400-1508002200@www.sisterswithpurpose.net
SUMMARY:Stop & Frisk Workshop & Dance Lessons
DESCRIPTION:
URL:https://www.sisterswithpurpose.net/upcoming-events/stop-frisk-workshop-dance-lessons/
END:VEVENT
BEGIN:VEVENT
DTSTART;VALUE=DATE:20171014
DTEND;VALUE=DATE:20171015
DTSTAMP:20260425T114550
CREATED:20171009T000629Z
LAST-MODIFIED:20171009T003438Z
UID:698-1507939200-1508025599@www.sisterswithpurpose.net
SUMMARY:Food Pantry
DESCRIPTION:
URL:https://www.sisterswithpurpose.net/upcoming-events/food-pantry/
END:VEVENT
BEGIN:VEVENT
DTSTART;VALUE=DATE:20170805
DTEND;VALUE=DATE:20170806
DTSTAMP:20260425T114550
CREATED:20170805T232033Z
LAST-MODIFIED:20170805T232033Z
UID:596-1501891200-1501977599@www.sisterswithpurpose.net
SUMMARY:East New York Film Festival
DESCRIPTION:
URL:https://www.sisterswithpurpose.net/upcoming-events/east-new-york-film-festival/
END:VEVENT
END:VCALENDAR